BEGIN:VCALENDAR
VERSION:2.0
PRODID:-//www.wilpf.de - ECPv6.15.14//NONSGML v1.0//EN
CALSCALE:GREGORIAN
METHOD:PUBLISH
X-ORIGINAL-URL:https://www.wilpf.de
X-WR-CALDESC:Veranstaltungen für www.wilpf.de
REFRESH-INTERVAL;VALUE=DURATION:PT1H
X-Robots-Tag:noindex
X-PUBLISHED-TTL:PT1H
BEGIN:VTIMEZONE
TZID:Europe/Berlin
BEGIN:DAYLIGHT
TZOFFSETFROM:+0100
TZOFFSETTO:+0200
TZNAME:CEST
DTSTART:20240331T010000
END:DAYLIGHT
BEGIN:STANDARD
TZOFFSETFROM:+0200
TZOFFSETTO:+0100
TZNAME:CET
DTSTART:20241027T010000
END:STANDARD
BEGIN:DAYLIGHT
TZOFFSETFROM:+0100
TZOFFSETTO:+0200
TZNAME:CEST
DTSTART:20250330T010000
END:DAYLIGHT
BEGIN:STANDARD
TZOFFSETFROM:+0200
TZOFFSETTO:+0100
TZNAME:CET
DTSTART:20251026T010000
END:STANDARD
BEGIN:DAYLIGHT
TZOFFSETFROM:+0100
TZOFFSETTO:+0200
TZNAME:CEST
DTSTART:20260329T010000
END:DAYLIGHT
BEGIN:STANDARD
TZOFFSETFROM:+0200
TZOFFSETTO:+0100
TZNAME:CET
DTSTART:20261025T010000
END:STANDARD
END:VTIMEZONE
BEGIN:VEVENT
DTSTART;TZID=Europe/Berlin:20251128T200000
DTEND;TZID=Europe/Berlin:20251128T223000
DTSTAMP:20260421T130740
CREATED:20251106T164530Z
LAST-MODIFIED:20251106T164822Z
UID:11234-1764360000-1764369000@www.wilpf.de
SUMMARY:Zwischen Schwarz und Weiß - Klavierabend für Frieden\, Freiheit\, Menschlichkeit
DESCRIPTION:Achtzig Jahre nach dem Ende des Zweiten Weltkriegs lädt die Internationale Frauenliga für Frieden und Freiheit (IFFF) zu einem besonderen Klavierabend mit dem Pianisten Markus Kreul und der Friedens- und Konfliktforscherin Dr. Olga Burkhardt-Vetter ein. \nIm Mittelpunkt steht eine eindrückliche Collage aus Musik und Text – ein musikalisch-literarisches Plädoyer für Frieden\, Freiheit und Menschlichkeit. Das von dem Pianisten Markus Kreul konzipierte und bereits mehrfach aufgeführte Programm spannt einen Bogen über 300 Jahre Klaviermusik – mit Werken von Mozart\, Chopin\, Zipper und anderen – und verwebt diese mit literarischen Auszügen zu einer Hommage an die Pianistin und Holocaust-Überlebende Alice Herz-Sommer (1903–2014)\, deren Leben zwei Weltkriege und ein Jahrhundert voller Umbrüche umfasste. \nZum Programm \nEinlass: Ab 19:30 Uhr\nEintritt: Auf Spendenbasis\nEmpfohlen ab 14 Jahren
URL:https://www.wilpf.de/kalender/zwischen-schwarz-und-weiss-klavierabend-fuer-frieden-freiheit-menschlichkeit/
LOCATION:Museumssaal im Museum Überlingen\, Krummebergstr. 30\, Überlingen\, 88662\, Germany
ATTACH;FMTTYPE=image/jpeg:https://www.wilpf.de/wp-content/uploads/2023/07/WILPF_Who-we-are_Structure.jpg
END:VEVENT
END:VCALENDAR