BEGIN:VCALENDAR
VERSION:2.0
PRODID:-//www.wilpf.de - ECPv6.15.20//NONSGML v1.0//EN
CALSCALE:GREGORIAN
METHOD:PUBLISH
X-ORIGINAL-URL:https://www.wilpf.de
X-WR-CALDESC:Veranstaltungen für www.wilpf.de
REFRESH-INTERVAL;VALUE=DURATION:PT1H
X-Robots-Tag:noindex
X-PUBLISHED-TTL:PT1H
BEGIN:VTIMEZONE
TZID:Europe/Berlin
BEGIN:DAYLIGHT
TZOFFSETFROM:+0100
TZOFFSETTO:+0200
TZNAME:CEST
DTSTART:20250330T010000
END:DAYLIGHT
BEGIN:STANDARD
TZOFFSETFROM:+0200
TZOFFSETTO:+0100
TZNAME:CET
DTSTART:20251026T010000
END:STANDARD
BEGIN:DAYLIGHT
TZOFFSETFROM:+0100
TZOFFSETTO:+0200
TZNAME:CEST
DTSTART:20260329T010000
END:DAYLIGHT
BEGIN:STANDARD
TZOFFSETFROM:+0200
TZOFFSETTO:+0100
TZNAME:CET
DTSTART:20261025T010000
END:STANDARD
BEGIN:DAYLIGHT
TZOFFSETFROM:+0100
TZOFFSETTO:+0200
TZNAME:CEST
DTSTART:20270328T010000
END:DAYLIGHT
BEGIN:STANDARD
TZOFFSETFROM:+0200
TZOFFSETTO:+0100
TZNAME:CET
DTSTART:20271031T010000
END:STANDARD
END:VTIMEZONE
BEGIN:VEVENT
DTSTART;TZID=Europe/Berlin:20260227T170000
DTEND;TZID=Europe/Berlin:20260301T133000
DTSTAMP:20260423T121138
CREATED:20251218T174227Z
LAST-MODIFIED:20260218T121123Z
UID:11331-1772211600-1772371800@www.wilpf.de
SUMMARY:Mitgliederversammlung 2026
DESCRIPTION:Unsere Mitgliederversammlung wird vom 27. Februar bis 01. März 2026 im oekom e. V. – Verein für ökologische Kommunikation e. V. und münchner zukunftssalon in München stattfinden. \nEingeladen und stimmberechtigt sind alle Mitglieder. Die Versammlung ist auch für Interessierte offen. \nTagesordnung:  \nAlle Berichte 2025 sowie Anträge und Projektskizzen (inklusive Angaben zu benötigten finanziellen Mitteln) für das Jahr 2026 sammeln wir bis zum 23.01.2026. Schickt Eure Dokumente vorab bitte an uns per E-Mail (info@wilpf.de) damit sie im Programm berücksichtigt werden können. \nMitte Januar 2026 wird fristgerecht die offizielle Einladung zur Mitgliederversammlung inklusive Tagesordnung und relevanter Dokumente an alle Mitglieder geschickt. \nKosten: \nDie Teilnahme an der Mitgliederversammlung ist kostenfrei. Wir bitten jedoch um Spenden von allen Teilnehmenden\, um die Kosten für Verpflegung und Raummiete zu decken. \nVerpflegung: \nEs wird vegetarisches und veganes Essen angeboten. \nBarrierefreiheit: \nDer Zutritt zum Veranstaltungsort ist barrierefrei. Bitte tragt in das Anmeldeformular ein\, wenn ihr weiteren Unterstützungsbedarf habt. Wir versuchen allen\, so gut es geht\, eine Teilnahme zu ermöglichen! \nAnmeldung: \nBitte meldet Euch spätestens bis zum 31.01.2026 über das Formular auf dieser Seite an\, damit wir Übernachtungsmöglichkeiten und Verpflegung planen können. Update: Falls ihr die Anmeldefrist verpasst habt\, aber gern teilnehmen möchtet\, bitte schreibt eine Mail an: info@wilpf.de! \nFalls ihr keine private Übernachtungsmöglichkeit habt und vermittelt werden oder ein Bett in einem Hostel-Mehrbettzimmer möchtet\, gebt dies bitte bei der Anmeldung im Formular mit an. \nDenkt bitte auch daran\, abzusagen\, wenn ihr doch nicht teilnehmen könnt (info@wilpf.de). Für weitere Änderungen könnt ihr euch ebenfalls per Mail an uns wenden.
URL:https://www.wilpf.de/kalender/mitgliederversammlung-2026/
LOCATION:oekom e. V. – Verein für ökologische Kommunikation e. V. und münchner zukunftssalon\, Goethestr. 28\, München\, Bayern\, 80336\, Germany
ATTACH;FMTTYPE=image/jpeg:https://www.wilpf.de/wp-content/uploads/2023/07/WILPF_Who-we-are_Structure.jpg
END:VEVENT
END:VCALENDAR